BEGIN:VCALENDAR
VERSION:2.0
PRODID:-//5.182.248.186//NONSGML kigkonsult.se iCalcreator 2.20//
CALSCALE:GREGORIAN
METHOD:PUBLISH
X-WR-TIMEZONE:Europe/Zurich
BEGIN:VEVENT
UID:event768@folk-tanz.ch
DTSTAMP:20260419T132449Z
CATEGORIES:Folktanz
DESCRIPTION:Kein Tanzen (31.3.-20.4)\nKategorie: Folktanz\nICS-Link: https:
 //www.folk-tanz.ch/index.php?option=com_jem&view=event&id=768:kein-tanzen-
 31-3-20-4\n
DTSTART;VALUE=DATE:20260331
DTEND;VALUE=DATE:20260421
SUMMARY:Kein Tanzen (31.3.-20.4)
URL:https://www.folk-tanz.ch/index.php?option=com_jem&view=event&id=768:kei
 n-tanzen-31-3-20-4
END:VEVENT
END:VCALENDAR