BEGIN:VCALENDAR
VERSION:2.0
PRODID:-//5.182.248.186//NONSGML kigkonsult.se iCalcreator 2.20//
CALSCALE:GREGORIAN
METHOD:PUBLISH
X-WR-TIMEZONE:Europe/Zurich
BEGIN:VEVENT
UID:event766@folk-tanz.ch
DTSTAMP:20260421T160422Z
CATEGORIES:Taizé
DESCRIPTION:Warten auf Ankunft des Lichts (mit Lieder aus Taizé)\nKategorie
 : Taizé\nICS-Link: https://www.folk-tanz.ch/index.php?option=com_jem&view=
 event&id=766:warten-auf-ankunft-des-lichts\n
DTSTART;TZID=Europe/Zurich:20261213T183000
DTEND;TZID=Europe/Zurich:20261213T183000
LOCATION:Kath. Erlinsbach\,Dorfplatz\,5015 Erlinsbach
SUMMARY:Warten auf Ankunft des Lichts (mit Lieder aus Taizé)
URL:https://www.folk-tanz.ch/index.php?option=com_jem&view=event&id=766:war
 ten-auf-ankunft-des-lichts
END:VEVENT
END:VCALENDAR